BEGIN:VCALENDAR
VERSION:2.0
PRODID:icalendar-ruby
CALSCALE:GREGORIAN
METHOD:PUBLISH
BEGIN:VEVENT
DTSTAMP:20260422T010810Z
UID:27-1475414@lagrangecog.com
DTSTART:20260923T220000Z
DTEND:20260923T230000Z
CLASS:PUBLIC
CREATED:20260421T185005
DESCRIPTION:
LAST-MODIFIED:20260421T185005
LOCATION:
SUMMARY:Family Training Hour
URL;VALUE=URI:https://www.lagrangecog.com/events/family-training-hour/2026-
 09-23
END:VEVENT
END:VCALENDAR
