BEGIN:VCALENDAR
VERSION:2.0
PRODID:icalendar-ruby
CALSCALE:GREGORIAN
METHOD:PUBLISH
BEGIN:VEVENT
DTSTAMP:20260422T035941Z
UID:27-1475880@lagrangecog.com
DTSTART:20261007T220000Z
DTEND:20261007T230000Z
CLASS:PUBLIC
CREATED:20260421T212837
DESCRIPTION:
LAST-MODIFIED:20260421T212837
LOCATION:
SUMMARY:Family Training Hour
URL;VALUE=URI:https://www.lagrangecog.com/events/family-training-hour/2026-
 10-07
END:VEVENT
END:VCALENDAR
