BEGIN:VCALENDAR
VERSION:2.0
PRODID:icalendar-ruby
CALSCALE:GREGORIAN
METHOD:PUBLISH
BEGIN:VEVENT
DTSTAMP:20260422T052004Z
UID:27-1475881@lagrangecog.com
DTSTART:20261014T220000Z
DTEND:20261014T230000Z
CLASS:PUBLIC
CREATED:20260421T212837
DESCRIPTION:
LAST-MODIFIED:20260421T212837
LOCATION:
SUMMARY:Family Training Hour
URL;VALUE=URI:https://www.lagrangecog.com/events/family-training-hour/2026-
 10-14
END:VEVENT
END:VCALENDAR
