BEGIN:VCALENDAR
VERSION:2.0
PRODID:icalendar-ruby
CALSCALE:GREGORIAN
METHOD:PUBLISH
BEGIN:VEVENT
DTSTAMP:20260422T033141Z
UID:5-1475792@lagrangecog.com
DTSTART:20260920T150000Z
DTEND:20260920T160000Z
CLASS:PUBLIC
CREATED:20260421T212837
DESCRIPTION:Sunday Worship
LAST-MODIFIED:20260421T212837
LOCATION:
SUMMARY:Sunday Worship
URL;VALUE=URI:https://www.lagrangecog.com/events/sunday-worship/2026-09-20
END:VEVENT
END:VCALENDAR
